BEGIN:VCALENDAR
VERSION:2.0
PRODID:-//BAFA / BAFD à la ligue 34 - ECPv6.10.1.1//NONSGML v1.0//EN
CALSCALE:GREGORIAN
METHOD:PUBLISH
X-ORIGINAL-URL:https://bafa.laligue34.org
X-WR-CALDESC:Évènements pour BAFA / BAFD à la ligue 34
REFRESH-INTERVAL;VALUE=DURATION:PT1H
X-Robots-Tag:noindex
X-PUBLISHED-TTL:PT1H
BEGIN:VTIMEZONE
TZID:Europe/Paris
BEGIN:DAYLIGHT
TZOFFSETFROM:+0100
TZOFFSETTO:+0200
TZNAME:CEST
DTSTART:20190331T010000
END:DAYLIGHT
BEGIN:STANDARD
TZOFFSETFROM:+0200
TZOFFSETTO:+0100
TZNAME:CET
DTSTART:20191027T010000
END:STANDARD
END:VTIMEZONE
BEGIN:VEVENT
DTSTART;VALUE=DATE:20190420
DTEND;VALUE=DATE:20190428
DTSTAMP:20260425T172915
CREATED:20180131T150520Z
LAST-MODIFIED:20181025T142611Z
UID:326-1555718400-1556409599@bafa.laligue34.org
SUMMARY:BAFA Formation générale - Lunel (34)
DESCRIPTION:
URL:https://bafa.laligue34.org/event/bafa-formation-generale-lunel-34/
LOCATION:Lunel (34)\, 2 boulevard de la République\, Lunel\, 34400\, France
CATEGORIES:BAFA : Formation générale
ORGANIZER;CN="Ligue Enseignement H%C3%A9rault":MAILTO:vpt@laligue34.org
END:VEVENT
BEGIN:VEVENT
DTSTART;VALUE=DATE:20190423
DTEND;VALUE=DATE:20190501
DTSTAMP:20260425T172915
CREATED:20170626T102217Z
LAST-MODIFIED:20181025T151650Z
UID:312-1555977600-1556668799@bafa.laligue34.org
SUMMARY:BAFA qualification SB et appro jeux dans l'eau - Nîmes (30)
DESCRIPTION:Cette formation qualifiante permet d’encadrer les baignades en accueils collectifs de mineurs. Les personnes jugées aptes reçoivent en fin de session la qualification de surveillant de baignade.\nLe surveillant de baignade a pour mission la prévention et la sensibilisation des publics aux risques que comportent les temps de baignade. Nageur confirmé\, toujours vigilant et réactif en cas de danger\, il occupe un poste indispensable à la sécurité des baignades.\nPour ceux/celles qui ne valideraient pas cette qualification\, ils pourront terminer leur BAFA en validant un appro « Jeux dans l’eau ».
URL:https://bafa.laligue34.org/event/bafa-qualification-surveillant-de-baignade-et-appro-jeux-dans-leau/
LOCATION:Nîmes (30)
CATEGORIES:BAFA : Qualification
END:VEVENT
BEGIN:VEVENT
DTSTART;VALUE=DATE:20190423
DTEND;VALUE=DATE:20190429
DTSTAMP:20260425T172915
CREATED:20181025T145819Z
LAST-MODIFIED:20181025T145819Z
UID:408-1555977600-1556495999@bafa.laligue34.org
SUMMARY:BAFD Perfectionnement - Cahors (46)
DESCRIPTION:
URL:https://bafa.laligue34.org/event/bafd-perfectionnement-cahors-46/
LOCATION:Cahors
CATEGORIES:BAFD : Perfectionnement
END:VEVENT
BEGIN:VEVENT
DTSTART;VALUE=DATE:20190427
DTEND;VALUE=DATE:20190505
DTSTAMP:20260425T172915
CREATED:20181025T151618Z
LAST-MODIFIED:20181025T151618Z
UID:420-1556323200-1557014399@bafa.laligue34.org
SUMMARY:BAFA qualification canoë kayak et jeux dans l'eau - Najac (12)
DESCRIPTION:Ce stage de qualification vous permettra d’encadrer l’activité canoë kayak en ACM selon les prérogatives\, en toute sécurité. Pratique\, réglementation\, entretien du matériel\, conduite d’un groupe\, animation\, technique de navigation.\nPour ceux/celles qui ne valideraient pas cette qualification\, ils pourront terminer leur BAFA en validant un appro « Jeux dans l’eau ».
URL:https://bafa.laligue34.org/event/bafa-qualification-canoe-kayak-et-jeux-dans-leau-najac-12/
LOCATION:Najac (12)
CATEGORIES:BAFA : Qualification
END:VEVENT
BEGIN:VEVENT
DTSTART;VALUE=DATE:20190428
DTEND;VALUE=DATE:20190506
DTSTAMP:20260425T172915
CREATED:20181025T150818Z
LAST-MODIFIED:20181025T151634Z
UID:417-1556409600-1557100799@bafa.laligue34.org
SUMMARY:BAFA qualification SB et appro jeux dans l'eau - Cahors (46)
DESCRIPTION:Cette formation qualifiante permet d’encadrer les baignades en accueils collectifs de mineurs. Les personnes jugées aptes reçoivent en fin de session la qualification de surveillant de baignade.\nLe surveillant de baignade a pour mission la prévention et la sensibilisation des publics aux risques que comportent les temps de baignade. Nageur confirmé\, toujours vigilant et réactif en cas de danger\, il occupe un poste indispensable à la sécurité des baignades.\nPour ceux/celles qui ne valideraient pas cette qualification\, ils pourront terminer leur BAFA en validant un appro « Jeux dans l’eau ».
URL:https://bafa.laligue34.org/event/bafa-qualification-sb-et-appro-jeux-dans-leau-cahors-46/
LOCATION:Cahors
CATEGORIES:BAFA : Qualification
END:VEVENT
END:VCALENDAR