BEGIN:VCALENDAR
VERSION:2.0
PRODID:-//BAFA / BAFD à la ligue 34 - ECPv6.10.1.1//NONSGML v1.0//EN
CALSCALE:GREGORIAN
METHOD:PUBLISH
X-ORIGINAL-URL:https://bafa.laligue34.org
X-WR-CALDESC:Évènements pour BAFA / BAFD à la ligue 34
REFRESH-INTERVAL;VALUE=DURATION:PT1H
X-Robots-Tag:noindex
X-PUBLISHED-TTL:PT1H
BEGIN:VTIMEZONE
TZID:Europe/Paris
BEGIN:DAYLIGHT
TZOFFSETFROM:+0100
TZOFFSETTO:+0200
TZNAME:CEST
DTSTART:20220327T010000
END:DAYLIGHT
BEGIN:STANDARD
TZOFFSETFROM:+0200
TZOFFSETTO:+0100
TZNAME:CET
DTSTART:20221030T010000
END:STANDARD
END:VTIMEZONE
BEGIN:VEVENT
DTSTART;VALUE=DATE:20221022
DTEND;VALUE=DATE:20221030
DTSTAMP:20260423T135138
CREATED:20191106T105558Z
LAST-MODIFIED:20211109T134749Z
UID:522-1666396800-1667087999@bafa.laligue34.org
SUMMARY:BAFA qualification Canoë Kayak et appro jeux dans l'eau - Najac (12)
DESCRIPTION:Ce stage de qualification vous permettra d’encadrer l’activité Canoë-Kayak en ACM selon les prérogatives de cette qualification en toute sécurité : pratique\, réglementation\, entretien du matériel\, conduite d’un groupe\, animation\, technique de navigation. La maîtrise de l’activité est INDISPENSABLE. \nPour les stagiaires qui ne valideraient pas la qualification CK\, ils pourront terminer leur BAFA en validant un approfondissement « jeux dans l’eau ».
URL:https://bafa.laligue34.org/event/bafa-qualification-canoe-kayak-et-appro-jeux-dans-leau-najac-12/
LOCATION:Najac (12)
CATEGORIES:BAFA : Qualification
END:VEVENT
END:VCALENDAR