BEGIN:VCALENDAR
VERSION:2.0
PRODID:-//BAFA / BAFD à la ligue 34 - ECPv6.10.1.1//NONSGML v1.0//EN
CALSCALE:GREGORIAN
METHOD:PUBLISH
X-WR-CALNAME:BAFA / BAFD à la ligue 34
X-ORIGINAL-URL:https://bafa.laligue34.org
X-WR-CALDESC:Évènements pour BAFA / BAFD à la ligue 34
REFRESH-INTERVAL;VALUE=DURATION:PT1H
X-Robots-Tag:noindex
X-PUBLISHED-TTL:PT1H
BEGIN:VTIMEZONE
TZID:Europe/Paris
BEGIN:DAYLIGHT
TZOFFSETFROM:+0100
TZOFFSETTO:+0200
TZNAME:CEST
DTSTART:20200329T010000
END:DAYLIGHT
BEGIN:STANDARD
TZOFFSETFROM:+0200
TZOFFSETTO:+0100
TZNAME:CET
DTSTART:20201025T010000
END:STANDARD
END:VTIMEZONE
BEGIN:VEVENT
DTSTART;VALUE=DATE:20201026
DTEND;VALUE=DATE:20201106
DTSTAMP:20260424T064022
CREATED:20191106T110006Z
LAST-MODIFIED:20191106T110006Z
UID:530-1603670400-1604620799@bafa.laligue34.org
SUMMARY:BAFD Formation générale - Nîmes (30)
DESCRIPTION:
URL:https://bafa.laligue34.org/event/bafd-formation-generale-nimes-30-2/
LOCATION:Nîmes (30)
CATEGORIES:BAFD : Formation Générale
END:VEVENT
BEGIN:VEVENT
DTSTART;VALUE=DATE:20201026
DTEND;VALUE=DATE:20201101
DTSTAMP:20260424T064022
CREATED:20191106T101938Z
LAST-MODIFIED:20191106T103859Z
UID:496-1603670400-1604188799@bafa.laligue34.org
SUMMARY:BAFA formation appro - Récupérer\, bricoler et animer - Montpellier (34)
DESCRIPTION:Donner une seconde vie aux objets du quotidien peut être tout un art !\nLes stagiaires découvriront de nombreuses techniques d’arts plastiques pour intégrer des objets de récupération ou des éléments végétaux pour leur création.\nIls découvriront aussi comment utiliser et valoriser l’art de la récup. Comment construire des séquences d’animation pour et avec les enfants et les jeunes.\nPour l’ensemble des tranches d’âge\, vous découvrirez différents supports favorisant la création\, la découverte et l’expérimentation.
URL:https://bafa.laligue34.org/event/bafa-formation-appro-recuperer-bricoler-et-animer-montpellier-34-2/
LOCATION:Montpellier (34)\, 974 avenue du Pirée\, Montpellier\, 34000\, France
CATEGORIES:BAFA : Approfondissement
ORGANIZER;CN="Ligue Enseignement H%C3%A9rault":MAILTO:vpt@laligue34.org
END:VEVENT
END:VCALENDAR