BEGIN:VCALENDAR
VERSION:2.0
PRODID:-//BAFA / BAFD à la ligue 34 - ECPv6.10.1.1//NONSGML v1.0//EN
CALSCALE:GREGORIAN
METHOD:PUBLISH
X-ORIGINAL-URL:https://bafa.laligue34.org
X-WR-CALDESC:Évènements pour BAFA / BAFD à la ligue 34
REFRESH-INTERVAL;VALUE=DURATION:PT1H
X-Robots-Tag:noindex
X-PUBLISHED-TTL:PT1H
BEGIN:VTIMEZONE
TZID:Europe/Paris
BEGIN:DAYLIGHT
TZOFFSETFROM:+0100
TZOFFSETTO:+0200
TZNAME:CEST
DTSTART:20200329T010000
END:DAYLIGHT
BEGIN:STANDARD
TZOFFSETFROM:+0200
TZOFFSETTO:+0100
TZNAME:CET
DTSTART:20201025T010000
END:STANDARD
END:VTIMEZONE
BEGIN:VEVENT
DTSTART;VALUE=DATE:20201017
DTEND;VALUE=DATE:20201025
DTSTAMP:20260424T085238
CREATED:20191106T101443Z
LAST-MODIFIED:20191106T103929Z
UID:494-1602892800-1603583999@bafa.laligue34.org
SUMMARY:BAFA Formation générale - Béziers (34)
DESCRIPTION:
URL:https://bafa.laligue34.org/event/bafa-formation-generale-beziers-34/
LOCATION:Béziers (34)\, Résidence "Le Rabelais"\, Avenue d'Oc \, Béziers\, 34500
CATEGORIES:BAFA : Formation générale
ORGANIZER;CN="Ligue Enseignement H%C3%A9rault":MAILTO:vpt@laligue34.org
END:VEVENT
BEGIN:VEVENT
DTSTART;VALUE=DATE:20201017
DTEND;VALUE=DATE:20201025
DTSTAMP:20260424T085238
CREATED:20191106T104355Z
LAST-MODIFIED:20191106T104355Z
UID:511-1602892800-1603583999@bafa.laligue34.org
SUMMARY:BAFA qualification SB et appro jeux dans l'eau - Cahors (46)
DESCRIPTION:Cette formation qualifiante permet d’encadrer les baignades en accueils collectifs de mineurs. Les personnes jugées aptes reçoivent en fin de session la qualification de surveillant de baignade.\nLe surveillant de baignade a pour mission la prévention et la sensibilisation des publics aux risques que comportent les temps de baignade. Nageur confirmé\, toujours vigilant et réactif en cas de danger\, il occupe un poste indispensable à la sécurité des baignades.\nPour ceux/celles qui ne valideraient pas cette qualification\, ils pourront terminer leur BAFA en validant un appro « Jeux dans l’eau ».
URL:https://bafa.laligue34.org/event/bafa-qualification-sb-et-appro-jeux-dans-leau-cahors-46-3/
LOCATION:Cahors
CATEGORIES:BAFA : Qualification
END:VEVENT
END:VCALENDAR