BEGIN:VCALENDAR
VERSION:2.0
PRODID:-//BAFA / BAFD à la ligue 34 - ECPv6.10.1.1//NONSGML v1.0//EN
CALSCALE:GREGORIAN
METHOD:PUBLISH
X-ORIGINAL-URL:https://bafa.laligue34.org
X-WR-CALDESC:Évènements pour BAFA / BAFD à la ligue 34
REFRESH-INTERVAL;VALUE=DURATION:PT1H
X-Robots-Tag:noindex
X-PUBLISHED-TTL:PT1H
BEGIN:VTIMEZONE
TZID:Europe/Paris
BEGIN:DAYLIGHT
TZOFFSETFROM:+0100
TZOFFSETTO:+0200
TZNAME:CEST
DTSTART:20200329T010000
END:DAYLIGHT
BEGIN:STANDARD
TZOFFSETFROM:+0200
TZOFFSETTO:+0100
TZNAME:CET
DTSTART:20201025T010000
END:STANDARD
END:VTIMEZONE
BEGIN:VEVENT
DTSTART;VALUE=DATE:20200404
DTEND;VALUE=DATE:20200412
DTSTAMP:20260424T224029
CREATED:20191106T101300Z
LAST-MODIFIED:20191106T104018Z
UID:490-1585958400-1586649599@bafa.laligue34.org
SUMMARY:BAFA Formation générale - Lunel (34)
DESCRIPTION:
URL:https://bafa.laligue34.org/event/bafa-formation-generale-lunel-34-2/
LOCATION:Lunel (34)\, 2 boulevard de la République\, Lunel\, 34400\, France
CATEGORIES:BAFA : Formation générale
ORGANIZER;CN="Ligue Enseignement H%C3%A9rault":MAILTO:vpt@laligue34.org
END:VEVENT
BEGIN:VEVENT
DTSTART;VALUE=DATE:20200404
DTEND;VALUE=DATE:20200410
DTSTAMP:20260424T224029
CREATED:20191106T105807Z
LAST-MODIFIED:20191106T105807Z
UID:526-1585958400-1586476799@bafa.laligue34.org
SUMMARY:BAFD Perfectionnement - Cahors (46)
DESCRIPTION:
URL:https://bafa.laligue34.org/event/bafd-perfectionnement-cahors-46-2/
LOCATION:Cahors
CATEGORIES:BAFD : Perfectionnement
END:VEVENT
BEGIN:VEVENT
DTSTART;VALUE=DATE:20200404
DTEND;VALUE=DATE:20200413
DTSTAMP:20260424T224029
CREATED:20191106T110436Z
LAST-MODIFIED:20191106T110436Z
UID:536-1585958400-1586735999@bafa.laligue34.org
SUMMARY:BAFD Formation générale - Balsieges (48)
DESCRIPTION:
URL:https://bafa.laligue34.org/event/bafd-formation-generale-balsieges-48/
LOCATION:Balsièges
CATEGORIES:BAFD : Formation Générale
END:VEVENT
BEGIN:VEVENT
DTSTART;VALUE=DATE:20200404
DTEND;VALUE=DATE:20200412
DTSTAMP:20260424T224029
CREATED:20191106T104752Z
LAST-MODIFIED:20191106T104752Z
UID:514-1585958400-1586649599@bafa.laligue34.org
SUMMARY:BAFA qualification SB et appro jeux dans l'eau - Nîmes (30)
DESCRIPTION:Cette formation qualifiante permet d’encadrer les baignades en accueils collectifs de mineurs. Les personnes jugées aptes reçoivent en fin de session la qualification de surveillant de baignade.\nLe surveillant de baignade a pour mission la prévention et la sensibilisation des publics aux risques que comportent les temps de baignade. Nageur confirmé\, toujours vigilant et réactif en cas de danger\, il occupe un poste indispensable à la sécurité des baignades.\nPour ceux/celles qui ne valideraient pas cette qualification\, ils pourront terminer leur BAFA en validant un appro « Jeux dans l’eau ».
URL:https://bafa.laligue34.org/event/bafa-qualification-sb-et-appro-jeux-dans-leau-nimes-30/
LOCATION:Nîmes (30)
CATEGORIES:BAFA : Qualification
END:VEVENT
END:VCALENDAR