BEGIN:VCALENDAR
VERSION:2.0
PRODID:-//BAFA / BAFD à la ligue 34 - ECPv6.10.1.1//NONSGML v1.0//EN
CALSCALE:GREGORIAN
METHOD:PUBLISH
X-ORIGINAL-URL:https://bafa.laligue34.org
X-WR-CALDESC:Évènements pour BAFA / BAFD à la ligue 34
REFRESH-INTERVAL;VALUE=DURATION:PT1H
X-Robots-Tag:noindex
X-PUBLISHED-TTL:PT1H
BEGIN:VTIMEZONE
TZID:Europe/Paris
BEGIN:DAYLIGHT
TZOFFSETFROM:+0100
TZOFFSETTO:+0200
TZNAME:CEST
DTSTART:20200329T010000
END:DAYLIGHT
BEGIN:STANDARD
TZOFFSETFROM:+0200
TZOFFSETTO:+0100
TZNAME:CET
DTSTART:20201025T010000
END:STANDARD
END:VTIMEZONE
BEGIN:VEVENT
DTSTART;VALUE=DATE:20200224
DTEND;VALUE=DATE:20200304
DTSTAMP:20260425T002331
CREATED:20191106T110156Z
LAST-MODIFIED:20191106T110156Z
UID:534-1582502400-1583279999@bafa.laligue34.org
SUMMARY:BAFD Formation générale - Carcassonne (11)
DESCRIPTION:
URL:https://bafa.laligue34.org/event/bafd-formation-generale-carcassonne-11-2/
LOCATION:Carcassonne
CATEGORIES:BAFD : Formation Générale
END:VEVENT
END:VCALENDAR