BEGIN:VCALENDAR
VERSION:2.0
PRODID:-//BAFA / BAFD à la ligue 34 - ECPv6.10.1.1//NONSGML v1.0//EN
CALSCALE:GREGORIAN
METHOD:PUBLISH
X-WR-CALNAME:BAFA / BAFD à la ligue 34
X-ORIGINAL-URL:https://bafa.laligue34.org
X-WR-CALDESC:Évènements pour BAFA / BAFD à la ligue 34
REFRESH-INTERVAL;VALUE=DURATION:PT1H
X-Robots-Tag:noindex
X-PUBLISHED-TTL:PT1H
BEGIN:VTIMEZONE
TZID:Europe/Paris
BEGIN:DAYLIGHT
TZOFFSETFROM:+0100
TZOFFSETTO:+0200
TZNAME:CEST
DTSTART:20200329T010000
END:DAYLIGHT
BEGIN:STANDARD
TZOFFSETFROM:+0200
TZOFFSETTO:+0100
TZNAME:CET
DTSTART:20201025T010000
END:STANDARD
END:VTIMEZONE
BEGIN:VEVENT
DTSTART;VALUE=DATE:20200215
DTEND;VALUE=DATE:20200224
DTSTAMP:20260425T032425
CREATED:20191106T110101Z
LAST-MODIFIED:20191106T110101Z
UID:532-1581724800-1582502399@bafa.laligue34.org
SUMMARY:BAFD Formation générale - Villefranche de Rouerge (12)
DESCRIPTION:
URL:https://bafa.laligue34.org/event/bafd-formation-generale-villefranche-de-rouerge-12/
LOCATION:Villefranche de Rouergue
CATEGORIES:BAFD : Formation Générale
END:VEVENT
BEGIN:VEVENT
DTSTART;VALUE=DATE:20200216
DTEND;VALUE=DATE:20200224
DTSTAMP:20260425T032425
CREATED:20191106T105141Z
LAST-MODIFIED:20191106T105141Z
UID:517-1581811200-1582502399@bafa.laligue34.org
SUMMARY:BAFA qualification SB et appro jeux dans l'eau - Mondonville (31)
DESCRIPTION:Cette formation qualifiante permet d’encadrer les baignades en accueils collectifs de mineurs. Les personnes jugées aptes reçoivent en fin de session la qualification de surveillant de baignade.\nLe surveillant de baignade a pour mission la prévention et la sensibilisation des publics aux risques que comportent les temps de baignade. Nageur confirmé\, toujours vigilant et réactif en cas de danger\, il occupe un poste indispensable à la sécurité des baignades.\nPour ceux/celles qui ne valideraient pas cette qualification\, ils pourront terminer leur BAFA en validant un appro « Jeux dans l’eau ».
URL:https://bafa.laligue34.org/event/bafa-qualification-sb-et-appro-jeux-dans-leau-mondonville-31/
LOCATION:Mondonville (31)\, Impasse de Carpette\, Mondonville\, 31700\, France
CATEGORIES:BAFA : Qualification
END:VEVENT
END:VCALENDAR