BEGIN:VCALENDAR
VERSION:2.0
PRODID:-//BAFA / BAFD à la ligue 34 - ECPv6.10.1.1//NONSGML v1.0//EN
CALSCALE:GREGORIAN
METHOD:PUBLISH
X-ORIGINAL-URL:https://bafa.laligue34.org
X-WR-CALDESC:Évènements pour BAFA / BAFD à la ligue 34
REFRESH-INTERVAL;VALUE=DURATION:PT1H
X-Robots-Tag:noindex
X-PUBLISHED-TTL:PT1H
BEGIN:VTIMEZONE
TZID:Europe/Paris
BEGIN:DAYLIGHT
TZOFFSETFROM:+0100
TZOFFSETTO:+0200
TZNAME:CEST
DTSTART:20190331T010000
END:DAYLIGHT
BEGIN:STANDARD
TZOFFSETFROM:+0200
TZOFFSETTO:+0100
TZNAME:CET
DTSTART:20191027T010000
END:STANDARD
END:VTIMEZONE
BEGIN:VEVENT
DTSTART;VALUE=DATE:20191226
DTEND;VALUE=DATE:20200101
DTSTAMP:20260425T054527
CREATED:20181025T150014Z
LAST-MODIFIED:20181025T150014Z
UID:412-1577318400-1577836799@bafa.laligue34.org
SUMMARY:BAFD Perfectionnement - Nîmes (30)
DESCRIPTION:
URL:https://bafa.laligue34.org/event/bafd-perfectionnement-nimes-30/
LOCATION:Nîmes (30)
CATEGORIES:BAFD : Perfectionnement
END:VEVENT
END:VCALENDAR