BEGIN:VCALENDAR
VERSION:2.0
PRODID:-//BAFA / BAFD à la ligue 34 - ECPv6.10.1.1//NONSGML v1.0//EN
CALSCALE:GREGORIAN
METHOD:PUBLISH
X-ORIGINAL-URL:https://bafa.laligue34.org
X-WR-CALDESC:Évènements pour BAFA / BAFD à la ligue 34
REFRESH-INTERVAL;VALUE=DURATION:PT1H
X-Robots-Tag:noindex
X-PUBLISHED-TTL:PT1H
BEGIN:VTIMEZONE
TZID:Europe/Paris
BEGIN:DAYLIGHT
TZOFFSETFROM:+0100
TZOFFSETTO:+0200
TZNAME:CEST
DTSTART:20190331T010000
END:DAYLIGHT
BEGIN:STANDARD
TZOFFSETFROM:+0200
TZOFFSETTO:+0100
TZNAME:CET
DTSTART:20191027T010000
END:STANDARD
END:VTIMEZONE
BEGIN:VEVENT
DTSTART;VALUE=DATE:20190706
DTEND;VALUE=DATE:20190714
DTSTAMP:20260425T140352
CREATED:20180131T150700Z
LAST-MODIFIED:20181206T131609Z
UID:328-1562371200-1563062399@bafa.laligue34.org
SUMMARY:BAFA Formation générale - Montpellier (34)
DESCRIPTION:
URL:https://bafa.laligue34.org/event/bafa-formation-generale-montpellier-34-5/
LOCATION:Montpellier (34)\, 974 avenue du Pirée\, Montpellier\, 34000\, France
CATEGORIES:BAFA : Formation générale
ORGANIZER;CN="Ligue Enseignement H%C3%A9rault":MAILTO:vpt@laligue34.org
END:VEVENT
END:VCALENDAR