BEGIN:VCALENDAR
VERSION:2.0
PRODID:-//BAFA / BAFD à la ligue 34 - ECPv6.10.1.1//NONSGML v1.0//EN
CALSCALE:GREGORIAN
METHOD:PUBLISH
X-WR-CALNAME:BAFA / BAFD à la ligue 34
X-ORIGINAL-URL:https://bafa.laligue34.org
X-WR-CALDESC:Évènements pour BAFA / BAFD à la ligue 34
REFRESH-INTERVAL;VALUE=DURATION:PT1H
X-Robots-Tag:noindex
X-PUBLISHED-TTL:PT1H
BEGIN:VTIMEZONE
TZID:Europe/Paris
BEGIN:DAYLIGHT
TZOFFSETFROM:+0100
TZOFFSETTO:+0200
TZNAME:CEST
DTSTART:20190331T010000
END:DAYLIGHT
BEGIN:STANDARD
TZOFFSETFROM:+0200
TZOFFSETTO:+0100
TZNAME:CET
DTSTART:20191027T010000
END:STANDARD
END:VTIMEZONE
BEGIN:VEVENT
DTSTART;VALUE=DATE:20190513
DTEND;VALUE=DATE:20190525
DTSTAMP:20260425T172737
CREATED:20181025T145132Z
LAST-MODIFIED:20181025T145132Z
UID:400-1557705600-1558742399@bafa.laligue34.org
SUMMARY:BAFD Formation Générale - Perpignan (66)
DESCRIPTION:
URL:https://bafa.laligue34.org/event/bafd-formation-generale-perpignan-66/
LOCATION:Perpignan (66)
CATEGORIES:BAFD : Formation Générale
END:VEVENT
END:VCALENDAR